BEGIN:VCALENDAR
VERSION:2.0
PRODID:-//The Preserve at Verdae - ECPv6.15.18//NONSGML v1.0//EN
CALSCALE:GREGORIAN
METHOD:PUBLISH
X-WR-CALNAME:The Preserve at Verdae
X-ORIGINAL-URL:https://www.thepreserveatverdae.com
X-WR-CALDESC:Events for The Preserve at Verdae
REFRESH-INTERVAL;VALUE=DURATION:PT1H
X-Robots-Tag:noindex
X-PUBLISHED-TTL:PT1H
BEGIN:VTIMEZONE
TZID:America/New_York
BEGIN:DAYLIGHT
TZOFFSETFROM:-0500
TZOFFSETTO:-0400
TZNAME:EDT
DTSTART:20250309T070000
END:DAYLIGHT
BEGIN:STANDARD
TZOFFSETFROM:-0400
TZOFFSETTO:-0500
TZNAME:EST
DTSTART:20251102T060000
END:STANDARD
BEGIN:DAYLIGHT
TZOFFSETFROM:-0500
TZOFFSETTO:-0400
TZNAME:EDT
DTSTART:20260308T070000
END:DAYLIGHT
BEGIN:STANDARD
TZOFFSETFROM:-0400
TZOFFSETTO:-0500
TZNAME:EST
DTSTART:20261101T060000
END:STANDARD
BEGIN:DAYLIGHT
TZOFFSETFROM:-0500
TZOFFSETTO:-0400
TZNAME:EDT
DTSTART:20270314T070000
END:DAYLIGHT
BEGIN:STANDARD
TZOFFSETFROM:-0400
TZOFFSETTO:-0500
TZNAME:EST
DTSTART:20271107T060000
END:STANDARD
END:VTIMEZONE
BEGIN:VEVENT
DTSTART;TZID=America/New_York:20260501T120000
DTEND;TZID=America/New_York:20260501T170000
DTSTAMP:20260423T073922
CREATED:20260211T165016Z
LAST-MODIFIED:20260211T165018Z
UID:10000319-1777636800-1777654800@www.thepreserveatverdae.com
SUMMARY:Greenville Bar
DESCRIPTION:
URL:https://www.thepreserveatverdae.com/event/greenville-bar-3/
END:VEVENT
BEGIN:VEVENT
DTSTART;TZID=America/New_York:20260504T100000
DTEND;TZID=America/New_York:20260504T150000
DTSTAMP:20260423T073922
CREATED:20260211T165016Z
LAST-MODIFIED:20260211T165018Z
UID:10000320-1777888800-1777906800@www.thepreserveatverdae.com
SUMMARY:Mauldin Chamber
DESCRIPTION:
URL:https://www.thepreserveatverdae.com/event/mauldin-chamber-3/
END:VEVENT
BEGIN:VEVENT
DTSTART;TZID=America/New_York:20260505T100000
DTEND;TZID=America/New_York:20260505T150000
DTSTAMP:20260423T073922
CREATED:20260211T165019Z
LAST-MODIFIED:20260211T165019Z
UID:10000321-1777975200-1777993200@www.thepreserveatverdae.com
SUMMARY:SCUCC
DESCRIPTION:
URL:https://www.thepreserveatverdae.com/event/scucc-3/
END:VEVENT
BEGIN:VEVENT
DTSTART;TZID=America/New_York:20260514T080000
DTEND;TZID=America/New_York:20260514T080000
DTSTAMP:20260423T073922
CREATED:20260211T165021Z
LAST-MODIFIED:20260211T165021Z
UID:10000324-1778745600-1778745600@www.thepreserveatverdae.com
SUMMARY:SC Aggregates
DESCRIPTION:
URL:https://www.thepreserveatverdae.com/event/sc-aggregates-6/
END:VEVENT
BEGIN:VEVENT
DTSTART;TZID=America/New_York:20260516T130000
DTEND;TZID=America/New_York:20260516T140000
DTSTAMP:20260423T073922
CREATED:20260211T165021Z
LAST-MODIFIED:20260211T165021Z
UID:10000325-1778936400-1778940000@www.thepreserveatverdae.com
SUMMARY:Mcmullen Group
DESCRIPTION:
URL:https://www.thepreserveatverdae.com/event/mcmullen-group-3/
END:VEVENT
BEGIN:VEVENT
DTSTART;TZID=America/New_York:20260518T093000
DTEND;TZID=America/New_York:20260518T143000
DTSTAMP:20260423T073922
CREATED:20260211T165024Z
LAST-MODIFIED:20260211T165024Z
UID:10000326-1779096600-1779114600@www.thepreserveatverdae.com
SUMMARY:Cook and Boardman
DESCRIPTION:
URL:https://www.thepreserveatverdae.com/event/cook-and-boardman-4/
END:VEVENT
BEGIN:VEVENT
DTSTART;TZID=America/New_York:20260519T100000
DTEND;TZID=America/New_York:20260519T150000
DTSTAMP:20260423T073922
CREATED:20260211T165025Z
LAST-MODIFIED:20260211T165025Z
UID:10000327-1779184800-1779202800@www.thepreserveatverdae.com
SUMMARY:Spinx
DESCRIPTION:
URL:https://www.thepreserveatverdae.com/event/spinx/
END:VEVENT
BEGIN:VEVENT
DTSTART;TZID=America/New_York:20260520T083000
DTEND;TZID=America/New_York:20260520T093000
DTSTAMP:20260423T073922
CREATED:20260211T165025Z
LAST-MODIFIED:20260211T165025Z
UID:10000328-1779265800-1779269400@www.thepreserveatverdae.com
SUMMARY:Mcmullen Group
DESCRIPTION:
URL:https://www.thepreserveatverdae.com/event/mcmullen-group-6/
END:VEVENT
BEGIN:VEVENT
DTSTART;TZID=America/New_York:20260526T110000
DTEND;TZID=America/New_York:20260526T160000
DTSTAMP:20260423T073922
CREATED:20260211T165025Z
LAST-MODIFIED:20260211T165025Z
UID:10000329-1779793200-1779811200@www.thepreserveatverdae.com
SUMMARY:Eletricom
DESCRIPTION:
URL:https://www.thepreserveatverdae.com/event/eletricom/
END:VEVENT
BEGIN:VEVENT
DTSTART;TZID=America/New_York:20260529T090000
DTEND;TZID=America/New_York:20260529T140000
DTSTAMP:20260423T073922
CREATED:20260211T165026Z
LAST-MODIFIED:20260211T165026Z
UID:10000330-1780045200-1780063200@www.thepreserveatverdae.com
SUMMARY:St Marys Classic
DESCRIPTION:
URL:https://www.thepreserveatverdae.com/event/st-marys-classic/
END:VEVENT
END:VCALENDAR